BEGIN:VCALENDAR
VERSION:2.0
PRODID:-//Pytheas Sailing - louer un voilier avec skipper en Bretagne - ECPv6.15.20//NONSGML v1.0//EN
CALSCALE:GREGORIAN
METHOD:PUBLISH
X-ORIGINAL-URL:https://www.pytheas-sailing.com
X-WR-CALDESC:Évènements pour Pytheas Sailing - louer un voilier avec skipper en Bretagne
REFRESH-INTERVAL;VALUE=DURATION:PT1H
X-Robots-Tag:noindex
X-PUBLISHED-TTL:PT1H
BEGIN:VTIMEZONE
TZID:Europe/Paris
BEGIN:DAYLIGHT
TZOFFSETFROM:+0100
TZOFFSETTO:+0200
TZNAME:CEST
DTSTART:20250330T010000
END:DAYLIGHT
BEGIN:STANDARD
TZOFFSETFROM:+0200
TZOFFSETTO:+0100
TZNAME:CET
DTSTART:20251026T010000
END:STANDARD
BEGIN:DAYLIGHT
TZOFFSETFROM:+0100
TZOFFSETTO:+0200
TZNAME:CEST
DTSTART:20260329T010000
END:DAYLIGHT
BEGIN:STANDARD
TZOFFSETFROM:+0200
TZOFFSETTO:+0100
TZNAME:CET
DTSTART:20261025T010000
END:STANDARD
BEGIN:DAYLIGHT
TZOFFSETFROM:+0100
TZOFFSETTO:+0200
TZNAME:CEST
DTSTART:20270328T010000
END:DAYLIGHT
BEGIN:STANDARD
TZOFFSETFROM:+0200
TZOFFSETTO:+0100
TZNAME:CET
DTSTART:20271031T010000
END:STANDARD
END:VTIMEZONE
BEGIN:VEVENT
DTSTART;TZID=Europe/Paris:20260524T100000
DTEND;TZID=Europe/Paris:20260604T150000
DTSTAMP:20260421T163709
CREATED:20250912T171132Z
LAST-MODIFIED:20260326T174847Z
UID:3477-1779616800-1780585200@www.pytheas-sailing.com
SUMMARY:Croisière aux ILES SCILLY et aux CORNOUAILLES
DESCRIPTION:Complet
URL:https://www.pytheas-sailing.com/calendrier/croisiere-aux-iles-scilly-et-aux-cornouailles/
CATEGORIES:Réservation privatisée ou complète
END:VEVENT
BEGIN:VEVENT
DTSTART;TZID=Europe/Paris:20260607T080000
DTEND;TZID=Europe/Paris:20260612T170000
DTSTAMP:20260421T163709
CREATED:20250923T184533Z
LAST-MODIFIED:20260223T121711Z
UID:3506-1780819200-1781283600@www.pytheas-sailing.com
SUMMARY:Croisière aux ILES ANGLO-NORMANDES
DESCRIPTION:Disponibilité : 3 places
URL:https://www.pytheas-sailing.com/calendrier/croisiere-aux-iles-anglo-normandes-2/
CATEGORIES:Réservation ouverte
END:VEVENT
BEGIN:VEVENT
DTSTART;TZID=Europe/Paris:20260614T080000
DTEND;TZID=Europe/Paris:20260619T170000
DTSTAMP:20260421T163709
CREATED:20250923T184657Z
LAST-MODIFIED:20251124T192714Z
UID:3508-1781424000-1781888400@www.pytheas-sailing.com
SUMMARY:Croisière BRETAGNE
DESCRIPTION:Disponibilité : 3 places
URL:https://www.pytheas-sailing.com/calendrier/croisiere-bretagne-7/
CATEGORIES:Disponible
END:VEVENT
BEGIN:VEVENT
DTSTART;TZID=Europe/Paris:20260621T090000
DTEND;TZID=Europe/Paris:20260626T170000
DTSTAMP:20260421T163709
CREATED:20250921T174238Z
LAST-MODIFIED:20250921T174238Z
UID:3493-1782032400-1782493200@www.pytheas-sailing.com
SUMMARY:Croisière TOUR de BRETAGNE 6 jours de Saint-Malo à Brest
DESCRIPTION:Disponibilité : 5 places
URL:https://www.pytheas-sailing.com/calendrier/croisiere-tour-de-bretagne-6-jours-de-saint-malo-a-brest/
CATEGORIES:Réservation ouverte
END:VEVENT
BEGIN:VEVENT
DTSTART;TZID=Europe/Paris:20260628T090000
DTEND;TZID=Europe/Paris:20260703T170000
DTSTAMP:20260421T163709
CREATED:20250921T173637Z
LAST-MODIFIED:20250921T174351Z
UID:3487-1782637200-1783098000@www.pytheas-sailing.com
SUMMARY:Croisière TOUR de BRETAGNE 6 jours de Brest à Vannes
DESCRIPTION:Privatisée
URL:https://www.pytheas-sailing.com/calendrier/croisiere-tour-de-bretagne-6-jours/
CATEGORIES:Réservation privatisée ou complète
END:VEVENT
END:VCALENDAR